BEGIN:VCALENDAR
VERSION:2.0
PRODID:-//Suistoklubi - Live Music Club - ECPv4.6.22.1//NONSGML v1.0//EN
CALSCALE:GREGORIAN
METHOD:PUBLISH
X-WR-CALNAME:Suistoklubi - Live Music Club
X-ORIGINAL-URL:https://www.suisto.fi
X-WR-CALDESC:Events for Suistoklubi - Live Music Club
BEGIN:VEVENT
DTSTART;TZID=UTC+2:20261021T160000
DTEND;TZID=UTC+2:20261021T230000
DTSTAMP:20260425T143435
CREATED:20260422T071014Z
LAST-MODIFIED:20260422T071014Z
UID:3859-1792598400-1792623600@www.suisto.fi
SUMMARY:Ke 21.10. Pauli Hanhiniemen Perunateatteri (19:00)
DESCRIPTION:Ke 21.10. Pauli Hanhiniemen Perunateatteri\nShowtime 19.00\nLippu ennakkoon 32\,50€ + toimituskulut\, sisältää eteispalvelumaksun\nLippu ovelta 35€\nEnnakkoliput Tiketistä:\nhttps://www.tiketti.fi/pauli-hanhiniemen-perunateatteri-suisto-klubi-hameenlinna-lippuja/117711 \nPauli Hanhiniemen Perunateatteri saapuu syyskiertueellaan Suistolle! \nViime vuonna menestyksekkään paluun tehnyt Pauli Hanhiniemen Perunateatteri suuntaa jälleen tien päälle. \nKokoonpano julkaisi vuosina 1995–2004 kuusi albumia ja yhden kokoelmalevyn. Yhtyeen suurimpia hittejä ovat Perso elämälle\, Siipeen jos sain\, Kaikille joskus käy niin\, Yksinkertaista ja Vieraslista. \n
URL:https://www.suisto.fi/event/ke-21-10-pauli-hanhiniemen-perunateatteri-1900/
LOCATION:Suistoklubi\, Viipurintie 4\, Hämeenlinna\, 13200\, Suomi
END:VEVENT
END:VCALENDAR