BEGIN:VCALENDAR
VERSION:2.0
PRODID:-//Suistoklubi - Live Music Club - ECPv4.6.22.1//NONSGML v1.0//EN
CALSCALE:GREGORIAN
METHOD:PUBLISH
X-WR-CALNAME:Suistoklubi - Live Music Club
X-ORIGINAL-URL:https://www.suisto.fi
X-WR-CALDESC:Events for Suistoklubi - Live Music Club
BEGIN:VEVENT
DTSTART;TZID=UTC+2:20260711T160000
DTEND;TZID=UTC+2:20260712T020000
DTSTAMP:20260421T090819
CREATED:20260409T143207Z
LAST-MODIFIED:20260409T143207Z
UID:3829-1783785600-1783821600@www.suisto.fi
SUMMARY:La 11.7. Ehdonalainen\, Acoustenced (21:00)
DESCRIPTION:La 11.7. Ehdonalainen\, Acoustenced\nShowtime 21.00\nLippu ennakkoon 16\,50€ + toimituskulut\, sisältää eteispalvelumaksun\nLippu ovelta 19€\nEnnakkoliput Tiketistä:\nhttps://www.tiketti.fi/ehdonalainen-acoustenced-suisto-klubi-hameenlinna-lippuja/117198 \nEhdonalainen tarjoilee Sentencedin tunnetuimpia hittejä ja piiloon jääneitä aarteita tarmolla ja suurella lavakarismalla kyynel silmäkulmassa. Keikan setti antaa monipuolisen läpileikkauksen Senareiden katalogista. \nAcoustenced esittää Sentencedin kappaleita akustisina versioina kahden kitaran voimin\, luoden uudenlaisia sovituksia kappaleista. Duo välittää Sentencedin kappaleiden tunnelmaa ja sisältöä akustisen ja intiimin esitystyylin kautta. \n
URL:https://www.suisto.fi/event/la-11-7-ehdonalainen-acoustenced-2100/
LOCATION:Suistoklubi\, Viipurintie 4\, Hämeenlinna\, 13200\, Suomi
CATEGORIES:Keikat
END:VEVENT
END:VCALENDAR