BEGIN:VCALENDAR
VERSION:2.0
PRODID:-//Suistoklubi - Live Music Club - ECPv4.6.22.1//NONSGML v1.0//EN
CALSCALE:GREGORIAN
METHOD:PUBLISH
X-WR-CALNAME:Suistoklubi - Live Music Club
X-ORIGINAL-URL:https://www.suisto.fi
X-WR-CALDESC:Events for Suistoklubi - Live Music Club
BEGIN:VEVENT
DTSTART;TZID=UTC+2:20260523T160000
DTEND;TZID=UTC+2:20260524T020000
DTSTAMP:20260425T143822
CREATED:20260422T125533Z
LAST-MODIFIED:20260422T125533Z
UID:3862-1779552000-1779588000@www.suisto.fi
SUMMARY:La 23.5. Äänilevyjen Ystävät (18:00)
DESCRIPTION:Tuo Suistolle itsesi ja levysi! Vapaa pääsy. \n
URL:https://www.suisto.fi/event/la-23-5-aanilevyjen-ystavat-1800/
LOCATION:Suistoklubi\, Viipurintie 4\, Hämeenlinna\, 13200\, Suomi
END:VEVENT
END:VCALENDAR