BEGIN:VCALENDAR
VERSION:2.0
PRODID:-//Suistoklubi - Live Music Club - ECPv4.6.22.1//NONSGML v1.0//EN
CALSCALE:GREGORIAN
METHOD:PUBLISH
X-WR-CALNAME:Suistoklubi - Live Music Club
X-ORIGINAL-URL:https://www.suisto.fi
X-WR-CALDESC:Events for Suistoklubi - Live Music Club
BEGIN:VEVENT
DTSTART;TZID=UTC+2:20250705T200000
DTEND;TZID=UTC+2:20250706T020000
DTSTAMP:20260420T213942
CREATED:20250612T085607Z
LAST-MODIFIED:20250612T085607Z
UID:3373-1751745600-1751767200@www.suisto.fi
SUMMARY:La 5.7. Suistokoris 2025 jatkot: Aksim (soolo)\, DJ Dead-O (20:00)
DESCRIPTION:La 5.7. Suistokoris 2025 jatkot: Aksim (soolo)\, DJ Dead-O\nKlo 20-02\nAksim showtime 22.00\nVAPAA PÄÄSY \nSuistokoris 2025 -turnauksen jatkoilla viihdyttävät rap-artisti Aksim sekä levyissä DJ Dead-O. \n
URL:https://www.suisto.fi/event/la-5-7-suistokoris-2025-jatkot-aksim-soolo-dj-dead-o-2000/
LOCATION:Suistoklubi\, Viipurintie 4\, Hämeenlinna\, 13200\, Suomi
CATEGORIES:Keikat
END:VEVENT
END:VCALENDAR