BEGIN:VCALENDAR
VERSION:2.0
PRODID:-//Suistoklubi - Live Music Club - ECPv4.6.22.1//NONSGML v1.0//EN
CALSCALE:GREGORIAN
METHOD:PUBLISH
X-WR-CALNAME:Suistoklubi - Live Music Club
X-ORIGINAL-URL:https://www.suisto.fi
X-WR-CALDESC:Events for Suistoklubi - Live Music Club
BEGIN:VEVENT
DTSTART;TZID=UTC+2:20251206T160000
DTEND;TZID=UTC+2:20251207T020000
DTSTAMP:20260420T150829
CREATED:20250702T094811Z
LAST-MODIFIED:20250702T094811Z
UID:3420-1765036800-1765072800@www.suisto.fi
SUMMARY:La 6.12. Bob Wayne (US)\, Munly J Munly (US) (21:00)
DESCRIPTION:La 6.12. Bob Wayne (US)\, Munly J Munly (US)\nShowtime 21.00\nLiput 24\,50€ + toimituskulut\, sisältää eteispalvelumaksun\nLippu ovelta 27€\nEnnakkoliput Tiketistä:\nhttps://www.tiketti.fi/bob-wayne-munly-j-munly-suisto-klubi-hameenlinna-lippuja/110548 \nBob Wayne palaa Hämeenlinnaan ja Suistolle! \nBob Wayne työstää raakaa\, syvällistä ja puhdasta countrya\, joka tasapainoilee taitavasti humoristisen ulosannin ja synkän totuuden rajamailla. Bob ei koskaan yritä olla mitään muuta kuin on\, vaan kaikki hänen tekemisensä on aitoa ja täysin vailla teeskentelyä. Hänen laulutapaansa verrataan moniin alan kanonisoituihin suuruuksiin\, kuten Johnny Cashiin tai Merle Haggardiin\, ja sävelkynää taas vaikkapa Kris Kristoffersoniin. Tämän lisäksi Bob tuo mukanaan countrymusiikkiin tarttumapintaa sekä vaarantunnetta\, jota musiikkigenre kaipaa kipeästi – ja samat aspektit ovat pääroolissa artistin äärimmäisen kovilla keikoilla. Bob Waynen uusin albumi 13 More Truckin Songs sisältää epäonnenluvun verran tulevia uuskantriklassikoita\, joita jokainen voi laulaa seitin ohuissa\, oman pick-upinsa ohjaksissa. \nIllan avaa amerikkalainen pitkän linjan countrymuusikko Munly J Munly\, joka on tuttu myös legendaarisen Slim Cessna’s Auto Clubin riveistä. Mies (Jayson Thompson) on toiminut useilla eri sooloartistinimillä\, joista tunnetuin lienee Jay Munly\, kiertänyt ja levyttänyt yhdessä The Lupercalians -taustayhtyeensä kanssa\, mutta tällä kertaa Munly on liikkeellä oman minimalistisen ja hypnotisoivan soolomatriaalinsa kanssa – yksin. Munly soundi on omalaatuinen sekoitus folkia\, kantria ja jopa goottilaisia sävyjä. \n
URL:https://www.suisto.fi/event/la-6-12-bob-wayne-us-munly-j-munly-us-2100/
LOCATION:Suistoklubi\, Viipurintie 4\, Hämeenlinna\, 13200\, Suomi
CATEGORIES:Keikat
END:VEVENT
END:VCALENDAR