BEGIN:VCALENDAR
VERSION:2.0
PRODID:-//Suistoklubi - Live Music Club - ECPv4.6.22.1//NONSGML v1.0//EN
CALSCALE:GREGORIAN
METHOD:PUBLISH
X-WR-CALNAME:Suistoklubi - Live Music Club
X-ORIGINAL-URL:https://www.suisto.fi
X-WR-CALDESC:Events for Suistoklubi - Live Music Club
BEGIN:VEVENT
DTSTART;TZID=UTC+2:20260606T160000
DTEND;TZID=UTC+2:20260607T020000
DTSTAMP:20260425T143435
CREATED:20260423T054540Z
LAST-MODIFIED:20260423T054540Z
UID:3864-1780761600-1780797600@www.suisto.fi
SUMMARY:La 6.6. What Awaits Us\, Cyclend\, Bloodstained Halo (21:00)
DESCRIPTION:La 6.6. What Awaits Us\, Cyclend\, Bloodstained Halo\nShowtime 21.00\nLippu ennakkoon 15\,00€ + toimituskulut\, sisältää eteispalvelumaksun\nLippu ovelta 17€\nEnnakkoliput Tiketistä:\nhttps://www.tiketti.fi/what-awaits-us-cyclend-bloodstained-halo-suisto-klubi-lippuja/117382 \nTuhti kattaus kotimaista metallimusaa Suistolla! \nWhat Awaits Us -yhtyeen musiikki yhdistää melankolisia melodioita rankkoihin kitarariffeihin ottaen samalla elementtejä metalcoresta ja melodisesta deathcoresta\, juurten ollessa syvällä göteborgilaistyylisessä metallissa. Genrejen yhdistelmä on ainutlaatuinen\, ja yhtye on vakiinnuttanut asemansa tunnusomaisena. What Awaits Usin live-esiintymiset ovat kirjaimellisesti ydinvoimainen energiapurkaus\, jota täydentää kiehtova visuaalinen puoli. \nBloodstained Halo yhdistää metalcoren raivokkuuden\, melodeathin melodian ja hardcoren raa’an soundin moderniksi ja vaikuttavaksi soundiksi. Raskaat riffit\, tunteellinen syvyys ja hellittämätön energia määrittelevät heidän musiikkiaan – tasapainottaen tarkkuutta ja puhdasta intensiteettiä. Suomen rikkaassa metalliperinteessä juurtunut\, mutta eteenpäin katsovan hengen ohjaama BSH tarjoaa kappaleita\, jotka iskevät kovaa ja jäävät mieleen. \nCyclend on uusi hämeenlinnalainen yhtye\, joka kokeilee modernia metallia ja yhdistää musiikissaan melodeathia ja metalcorea. Murskaavat riffit\, isot biitit ja tunteelliset melodiat muodostavat kokonaisuuden\, joka ei jätä kylmäksi. \n  \n
URL:https://www.suisto.fi/event/la-6-6-what-awaits-us-cyclend-bloodstained-halo-2100/
LOCATION:Suistoklubi\, Viipurintie 4\, Hämeenlinna\, 13200\, Suomi
CATEGORIES:Keikat
END:VEVENT
END:VCALENDAR