BEGIN:VCALENDAR
VERSION:2.0
PRODID:-//Suistoklubi - Live Music Club - ECPv4.6.22.1//NONSGML v1.0//EN
CALSCALE:GREGORIAN
METHOD:PUBLISH
X-WR-CALNAME:Suistoklubi - Live Music Club
X-ORIGINAL-URL:https://www.suisto.fi
X-WR-CALDESC:Events for Suistoklubi - Live Music Club
BEGIN:VEVENT
DTSTART;TZID=UTC+2:20251212T160000
DTEND;TZID=UTC+2:20251213T020000
DTSTAMP:20260420T183503
CREATED:20250625T073605Z
LAST-MODIFIED:20251211T095347Z
UID:3414-1765555200-1765591200@www.suisto.fi
SUMMARY:Pe 12.12. Eevil Stöö\, Kriso\, Yortsu DJs (21:00)
DESCRIPTION:Pe 12.12. Eevil Stöö\, Kriso\, Yortsu DJs\nShowtime 21.00\nLippu ennakkoon 22\,50€ + toimituskulut\, sisältää eteispalvelumaksun\nLippu ovelta 25€\nEnnakkoliput Tiketistä:\nhttps://www.tiketti.fi/eevil-stoo-kriso-suisto-klubi-hameenlinna-lippuja/110339 \nEevil Stöö & Kriso julkaisevat yhteisalbumin – levyjulkkarikiertue kaartaa Hämeenlinnan Suistolle 12. joulukuuta \nKotimaisen räpin ystäville koittavat ennenkuulumattoman makeat päivät\, kun kentän arvostetuimpiin ja omaperäisimpiin nimiin lukeutuvat Eevil Stöö ja Kriso julkaisevat yhteisalbumin syksyllä 2025. Albumin on tuottanut Pehmee Goo. Levyjulkkarikiertueen viimeinen keikka nähdään Hämeenlinnan Suistolla perjantaina 12. joulukuuta. Keikan liput ovat nyt myynnissä. \nReilut parikymmentä vuotta pelissä vaikuttanut Eevil Stöö on suomaisen räp-kentän omaperäinen helmi\, jonka vyöltä löytyy niin listaykkösiä kuin Teosto-palkintokin. Ahkerasta julkaisutahdistaan tunnettu artisti tunnetaan myös pyörittämästään Katakombi-levy-yhtiöstä. \nJyväskyläläisen suomirap-kulttuurin tienraivaaja\, KPC-kollektiivin taustamuskelina ja kasvona vaikuttava Kriso tunnetaan kentällään erityisesti omatoimisesta ja kokonaisvaltaisesta lähestymisestään tekemiseensä ja puheräppityylin suvereenina ykkösnimenä. \nIllassa mukana Yortsu DJ:t pyörittämässä levyjä. \n
URL:https://www.suisto.fi/event/pe-12-12-eevil-stoo-kriso-2100/
LOCATION:Suistoklubi\, Viipurintie 4\, Hämeenlinna\, 13200\, Suomi
CATEGORIES:Keikat
END:VEVENT
END:VCALENDAR