BEGIN:VCALENDAR
VERSION:2.0
PRODID:-//Suistoklubi - Live Music Club - ECPv4.6.22.1//NONSGML v1.0//EN
CALSCALE:GREGORIAN
METHOD:PUBLISH
X-WR-CALNAME:Suistoklubi - Live Music Club
X-ORIGINAL-URL:https://www.suisto.fi
X-WR-CALDESC:Events for Suistoklubi - Live Music Club
BEGIN:VEVENT
DTSTART;TZID=UTC+2:20260612T160000
DTEND;TZID=UTC+2:20260613T020000
DTSTAMP:20260421T092946
CREATED:20260409T122656Z
LAST-MODIFIED:20260409T122656Z
UID:3824-1781280000-1781316000@www.suisto.fi
SUMMARY:Pe 12.6. Monumentti\, Iha Sama\, Bleus Brothers (21:00)
DESCRIPTION:Pe 12.6. Monumentti\, Iha Sama\, Bleus Brothers\nShowtime 21.00\nLippu ennakkoon 14€ + toimituskulut\, sisältää eteispalvelumaksun\nLippu ovelta 16€\nEnnakkoliput Tiketistä:\nhttps://www.tiketti.fi/monumentti-iha-sama-bleus-brothers-suisto-klubi-hameenlinna-lippuja/117211 \nMonumentti on heinäkuussa 2022 Hämeenlinnan Lammilla perustettu monipuolinen rock-yhtye\, joka tekee musiikkia intohimolla ja asenteella. Yhtyeen eri kappaleiden kanssa voit tehdä elämyksellisiä matkoja\, minne tahansa\, kuitenkin aina tietäen\, että olet Monumentin seurassa. Koskettavat tarinat elämän suurista tunteista\, raaka ja eläimellinen energia\, boogie sekä viehättävä karisma ovat oleellisia elementtejä tässä mahtavassa rock ’n’ rollin juhlassa. \nVuonna 2011 Hämeenlinnassa perustettu punkrock / heavy-pumppu Iha Sama tarjoilee hämärää musiikkia Hämeestä. Bändin musiikkia on hankala kategorisoida mihinkään tiettyyn lokeroon – tuotanto on musiikillisesti melko kokeellista ja lyyrisesti hyvin hämmentävää. Melkoinen soppa\, mutta helvetin kova meno – Iha Sama! \nIllan aloittava Bleus Brothers on lyhyesti ja ytimekkäästi bändi Tampereelta\, joka kantaa slogania: ”Spreading the Gospel of Bleus”. \n
URL:https://www.suisto.fi/event/pe-12-6-monumentti-iha-sama-bleus-brothers-2100/
LOCATION:Suistoklubi\, Viipurintie 4\, Hämeenlinna\, 13200\, Suomi
CATEGORIES:Keikat
END:VEVENT
END:VCALENDAR