BEGIN:VCALENDAR
VERSION:2.0
PRODID:-//Suistoklubi - Live Music Club - ECPv4.6.22.1//NONSGML v1.0//EN
CALSCALE:GREGORIAN
METHOD:PUBLISH
X-WR-CALNAME:Suistoklubi - Live Music Club
X-ORIGINAL-URL:https://www.suisto.fi
X-WR-CALDESC:Events for Suistoklubi - Live Music Club
BEGIN:VEVENT
DTSTART;TZID=UTC+2:20250912T160000
DTEND;TZID=UTC+2:20250913T020000
DTSTAMP:20260420T174712
CREATED:20250618T104310Z
LAST-MODIFIED:20250618T104310Z
UID:3380-1757692800-1757728800@www.suisto.fi
SUMMARY:Pe 12.9. Timo Pieni Huijaus (21:00)
DESCRIPTION:Pe 12.9. Timo Pieni Huijaus\nShowtime: 21.00\nLiput: 22€/25€\nEnnakkoliput Tiketistä:\nhttps://www.tiketti.fi/timo-pieni-huijaus-suisto-klubi-hameenlinna-lippuja/110280 \nYksi suomirapin pitkäaikaisimmista pioneereista\, Timo Pieni Huijaus\, juhlii tänä vuonna mittavaa 25-vuotista uraansa ja suuntaa syksyllä TPH 25v -juhlakiertueelle. Syyskuun alussa starttaava kiertuekokonaisuus pitää sisällään kymmenen keikkaa ympäri Suomen. \nTimo Pieni Huijaus eli TPH on vakiinnuttanut paikkansa kotimaisen rapin etulinjassa tinkimättömällä tyylillään\, tarttuvilla biiteillään ja tunnistettavalla soundillaan. Rähinä Recordsin kasvattina tunnetuksi tullut artisti on vuosien saatossa julkaissut lukuisia klassikoiksi muodostuneita kappaleita ja albumeita – muun muassa Emävale (2010) ja Kaikki Loppuu (2012) – sekä hittejä kuten Paratiisi\, Tee mitä pitää\, JVG:n kanssa tehty Kasarin lapsi sekä Elastisen kanssa julkaistut Fisuu ja Loppuviikko. \nJuhlavuosi 2025 tuo tullessaan lisää uutta musiikkia ja kattavan kiertueen\, joka tarjoaa kuulijoille ainutlaatuisen mahdollisuuden juhlistaa yhden aikakauden merkittävän suomirap-artistin uraa. \n
URL:https://www.suisto.fi/event/pe-12-9-timo-pieni-huijaus-2100/
LOCATION:Suistoklubi\, Viipurintie 4\, Hämeenlinna\, 13200\, Suomi
CATEGORIES:Keikat
END:VEVENT
END:VCALENDAR