BEGIN:VCALENDAR
VERSION:2.0
PRODID:-//Suistoklubi - Live Music Club - ECPv4.6.22.1//NONSGML v1.0//EN
CALSCALE:GREGORIAN
METHOD:PUBLISH
X-WR-CALNAME:Suistoklubi - Live Music Club
X-ORIGINAL-URL:https://www.suisto.fi
X-WR-CALDESC:Events for Suistoklubi - Live Music Club
BEGIN:VEVENT
DTSTART;TZID=UTC+2:20250815T160000
DTEND;TZID=UTC+2:20250816T020000
DTSTAMP:20260421T140834
CREATED:20250512T141136Z
LAST-MODIFIED:20250512T141136Z
UID:3306-1755273600-1755309600@www.suisto.fi
SUMMARY:Pe 15.8. Jaakko Laitinen & Väärä Raha (21:00)
DESCRIPTION:Pe 15.8. Jaakko Laitinen & Väärä Raha\nShowtime 21.00\nLippu ennakkoon 18\,50€ + toimituskulut\, sisältää eteispalvelumaksun\nLippu ovelta 21€\nEnnakkoliput:\nhttps://www.tiketti.fi/jaakko-laitinen-vaara-raha-suisto-klubi-hameenlinna-lippuja/109513 \nLapland-Balkan-orkesteri Jaakko Laitinen & Väärä Raha palaa Suistolle. Yhtye julkaisi viime syksynä ylistetyn Äyskäri-pitkäsoittonsa ja levy valittiin niin Lapin Kansan\, Helsingin Sanomien ja YLE:n listauksissa vuoden parhaimpien joukkoon ja maaliskuussa se kruunattiin Etno-Emma-palkinnolla. Levyllä kaikuvat vaikutteet varsinkin Balkanilta ja vanhasta Suomi-Iskelmästä\, mutta vuosien varrella musiikilliseen maustehyllyyn on kertynyt inspiraatiota niin Turkista\, Kreikasta\, Lähi-idästä kuin Kreikastakin. Sanoitusten sfäärit ovat laajenneet ensilevyjen lemmenkaihosta todellisuuksien rajoja rapsutteleviin pohdintoihin\, mutta kuitenkaan peräpohjalaista pilkettä silmäkulmasta unohtamatta. \nLoistavien levytysten lisäksi yhtye tunnetaan ennen kaikkea hurmoksellisista keikoistaan\, missä Laitinen\, Väärät Rahat ja yleisö piiskaavat toinen toinensa tiloihin\, joista vanha kansa olisi kutsunut loveen lankeamiseksi. Kovaa keikkamainetta on pidetty yllä 70 keikan vuositahdilla ympäri Suomen Eirasta Inariin ja halki Euroopan jo yli 20 eri maassa. Musiikista aukeaa tasoja sekä analyyttisesti istuskellen kuunnellen että tanssin villiin pyörteeseen heittäytyen. Jo uutta levyä askarteleva orkesteri lupaa tarjoilla niin rakastetuimpia ralleja vuosien varrelta kuin uusia kappaleita tulevaisuuden levyiltään. \n
URL:https://www.suisto.fi/event/pe-15-8-jaakko-laitinen-vaara-raha-2100/
LOCATION:Suistoklubi\, Viipurintie 4\, Hämeenlinna\, 13200\, Suomi
CATEGORIES:Keikat
END:VEVENT
END:VCALENDAR