BEGIN:VCALENDAR
VERSION:2.0
PRODID:-//Suistoklubi - Live Music Club - ECPv4.6.22.1//NONSGML v1.0//EN
CALSCALE:GREGORIAN
METHOD:PUBLISH
X-WR-CALNAME:Suistoklubi - Live Music Club
X-ORIGINAL-URL:https://www.suisto.fi
X-WR-CALDESC:Events for Suistoklubi - Live Music Club
BEGIN:VEVENT
DTSTART;TZID=UTC+2:20251121T160000
DTEND;TZID=UTC+2:20251122T020000
DTSTAMP:20260420T180109
CREATED:20250624T121855Z
LAST-MODIFIED:20250624T121855Z
UID:3405-1763740800-1763776800@www.suisto.fi
SUMMARY:Pe 21.11. Wigwam Revisited (21:00)
DESCRIPTION:Pe 21.11. Wigwam Revisited\nShowtime 21.00\nEnnakkoliput 32\,50€ + toimituskulut\, sisältää eteispalvelumaksun\nLiput ovelta 34€\nEnnakkoliput Tiketistä:\nhttps://www.tiketti.fi/wigwam-revisited-suisto-klubi-hameenlinna-lippuja/110219 \nWigwam on tunnetusti yksi merkittävimmistä yhtyeistä suomalaisessa rock-historiassa. Edellä aikaansa liikkunut kokoonpano muistetaan erityisesti klassikkoaseman saavuttaneista proge- ja taiderock-albumeistaan\, joita Love Records julkaisi 1970-luvulla. \nMikko Rintanen – koskettimet ja laulu\nPuka Oinonen – kitara\nJanne Brunberg – basso\nJan Noponen – rummut\nJukka Gustavson – urut ja laulu \n
URL:https://www.suisto.fi/event/pe-21-11-wigwam-revisited-2100/
LOCATION:Suistoklubi\, Viipurintie 4\, Hämeenlinna\, 13200\, Suomi
CATEGORIES:Keikat
END:VEVENT
END:VCALENDAR