BEGIN:VCALENDAR
VERSION:2.0
PRODID:-//Suistoklubi - Live Music Club - ECPv4.6.22.1//NONSGML v1.0//EN
CALSCALE:GREGORIAN
METHOD:PUBLISH
X-WR-CALNAME:Suistoklubi - Live Music Club
X-ORIGINAL-URL:https://www.suisto.fi
X-WR-CALDESC:Events for Suistoklubi - Live Music Club
BEGIN:VEVENT
DTSTART;TZID=UTC+2:20251128T160000
DTEND;TZID=UTC+2:20251129T020000
DTSTAMP:20260420T194104
CREATED:20250625T071902Z
LAST-MODIFIED:20250625T071902Z
UID:3408-1764345600-1764381600@www.suisto.fi
SUMMARY:Pe 28.11. Terveet Kädet\, Ruttokansantuote (21:00)
DESCRIPTION:Pe 28.11. Terveet Kädet\, Ruttokansantuote\nShowtime 21.00\nLippu ennakkoon 21€ + toimituskulut\, sisältää eteispalvelumaksun\nLippu ovelta 23€\nEnnakkoliput Tiketistä:\nhttps://www.tiketti.fi/terveet-kadet-ruttokansantuote-suisto-klubi-hameenlinna-lippuja/110220 \nVuodesta 1979 operoinut suomen ensimmäinen hardcore-yhtye Terveet Kädet on kiistatta kaikkien aikojen tunnetuin suomalainen punkbändi. Läjä Äijälän luotsaama yhtye toimii aktiivisesti\, edellinen albumi ”Kaikki kaikkia vastaan” julkaistiin 2023 (Svart Records). Terveet Kädet on kerännyt vuosien varrella ihailijoita maailmanlaajuisesti metalliyhtye Sepulturan jäsenistöstä Mike Pattoniin ja on ehtinyt kiertää kotimaansa lisäksi myös Japanissa pariin otteeseen\, Euroopassa sekä Etelä-Amerikassa. \n
URL:https://www.suisto.fi/event/pe-28-11-terveet-kadet-ruttokansantuote-2100/
LOCATION:Suistoklubi\, Viipurintie 4\, Hämeenlinna\, 13200\, Suomi
CATEGORIES:Keikat
END:VEVENT
END:VCALENDAR