BEGIN:VCALENDAR
VERSION:2.0
PRODID:-//Suistoklubi - Live Music Club - ECPv4.6.22.1//NONSGML v1.0//EN
CALSCALE:GREGORIAN
METHOD:PUBLISH
X-WR-CALNAME:Suistoklubi - Live Music Club
X-ORIGINAL-URL:https://www.suisto.fi
X-WR-CALDESC:Events for Suistoklubi - Live Music Club
BEGIN:VEVENT
DTSTART;TZID=UTC+2:20260904T160000
DTEND;TZID=UTC+2:20260905T020000
DTSTAMP:20260421T141601
CREATED:20260421T090641Z
LAST-MODIFIED:20260421T090641Z
UID:3853-1788537600-1788573600@www.suisto.fi
SUMMARY:Pe 4.9. Netta Skog ja Kaarle Viikate (19:00)
DESCRIPTION:Pe 4.9. Netta Skog ja Kaarle Viikate\nShowtime 19.00\nLippu ennakkoon 24\,50€ + toimituskulut\, sisältää eteispalvelumaksun\nLippu ovelta 27€\nEnnakkoliput Tiketistä:\nhttps://www.tiketti.fi/netta-skog-ja-kaarle-viikate-suisto-klubi-hameenlinna-lippuja/117661 \nKAARLE VIIKATE & NETTA SKOG: Ikivihreitä tunnelmia ja tarinoita \nSuomen metallimusiikista tutut Kaarle Viikate ja monissa eturivin bändeissä vaikuttanut harmonikan soittaja Netta Skog yhdistivät voimansa ensimmäistä kertaa muutama vuosi sitten ja palaavat taas ikivihreiden tunnelmien äärelle. \nTämä duo haluaa tuoda yleisön lähemmäs niin sanottua ikivihreää aikaa ja on kerännyt ohjelmistoonsa klassikko-kappaleita niin Suomi-genrestä kuin myös ulkomaalaisista hiteistä. \nLähestymistapa on maanläheinen ja soundimaailma varsin perinteinen. Tässä konseptissa ”More is more” ei välttämättä päde\, vaan halutaan luoda tunnelmaa tarinoilla ja kauniilla lyriikoilla. Kappaleiden uudet sovitukset ja hilpeät tarinat ovat tämän konseptin kirsikka kakussa. \n
URL:https://www.suisto.fi/event/pe-4-9-netta-skog-ja-kaarle-viikate-1900/
LOCATION:Suistoklubi\, Viipurintie 4\, Hämeenlinna\, 13200\, Suomi
CATEGORIES:Keikat
END:VEVENT
END:VCALENDAR