BEGIN:VCALENDAR
VERSION:2.0
PRODID:-//Suistoklubi - Live Music Club - ECPv4.6.22.1//NONSGML v1.0//EN
CALSCALE:GREGORIAN
METHOD:PUBLISH
X-WR-CALNAME:Suistoklubi - Live Music Club
X-ORIGINAL-URL:https://www.suisto.fi
X-WR-CALDESC:Events for Suistoklubi - Live Music Club
BEGIN:VEVENT
DTSTART;TZID=UTC+2:20260508T160000
DTEND;TZID=UTC+2:20260509T020000
DTSTAMP:20260425T142930
CREATED:20260305T134438Z
LAST-MODIFIED:20260309T093840Z
UID:3767-1778256000-1778292000@www.suisto.fi
SUMMARY:Pe 8.5. Häiriköt\, Pykimät\, NO EI! (21:00)
DESCRIPTION:Pe 8.5. Häiriköt\, Pykimät\, NO EI!\nShowtime 21.00\nLippu ennakkoon 16\,50€ + toimituskulut\, sisältää eteispalvelumaksun\nLippu ovelta 19€\nEnnakkoliput Tiketistä:\nhttps://www.tiketti.fi/hairikot-pykimat-no-ei-suisto-klubi-hameenlinna-lippuja/116405 \nJo vuodesta 1988 omalla tinkimättömällä linjallaan vetänyt Häiriköt on syystäkin sementoinut nimensä suomipunkin kaanoniin. Vanhan liiton punkrockia Ramonesin ja Social Distortionin hengessä soittava bändi on Erkko Salosen johdolla ilahduttanut vankkaa kannattajakuntaansa energisten keikkojen ja raudanlujan levytuotannon muodossa jo vuosikymmeniä. Ensimmäinen LP ”Iskee kuin miljoona volttia” tuli ulos vuonna 1992. Seitsemäs\, tammikuussa 2026 julkaistu pitkäsoitto ”Ei antauduta” jatkaa vanhalla tutulla linjalla: biisit ovat yksinkertaisia\, melodiat tarttuvia\, sanat synkkiä ja soitto tiukkaa. \nHäiriköiden livemeininki on yhtä ankaraa ja tylyä kuin aina ennenkin. Biisit runnotaan läpi reippaalla tempolla ilman turhia välilöpinöitä\, ja Maukka Maunulan kasibiitti on edelleen Suomen tiukinta. Uuden basistin Pasin Nevalaidan myötä bändi on yhä kovassa iskussa. Elämä on kovaa\, mutta Häiriköt ei antaudu! \nPykimät on punkrockyhtye Varkaudesta. Pykimät yhdistelee Ramonesin 1-2-3-4 -jyrää\, No Means Non äkkiväärää hypnoottisuutta ja punk-ajan Eppujen nokkelan tarttuvia melodioita ja sanoituksia. Uusi pitkäsoitto “Prosessi etenee” ilmestyi syyskuussa 2025. Alunperin jo 90-luvulla perustettu Pykimät on elämänsä vedossa ja luo hikistä rytmimaisemaa ja tennaritamppausta ympäri Suomea. \nNO EI! on hardcore-/punk-yhtye Helsingistä\, perustettu 2021. Bändin jäsenten edeltäviä ja nykyisiä bändejä ovat mm. No Shame\, Klimax\, Huuto!\, Time Flies\, Blueintheface\, Kouristus ja Säädöt\, joten tosiaan mistään noviisien bändistä ei ole kyse. \n
URL:https://www.suisto.fi/event/pe-8-5-hairikot-pykimat-no-ei-2100/
LOCATION:Suistoklubi\, Viipurintie 4\, Hämeenlinna\, 13200\, Suomi
CATEGORIES:Keikat
END:VEVENT
END:VCALENDAR