BEGIN:VCALENDAR
VERSION:2.0
PRODID:-//Suistoklubi - Live Music Club - ECPv4.6.22.1//NONSGML v1.0//EN
CALSCALE:GREGORIAN
METHOD:PUBLISH
X-WR-CALNAME:Suistoklubi - Live Music Club
X-ORIGINAL-URL:https://www.suisto.fi
X-WR-CALDESC:Events for Suistoklubi - Live Music Club
BEGIN:VEVENT
DTSTART;TZID=UTC+2:20250803T160000
DTEND;TZID=UTC+2:20250803T230000
DTSTAMP:20260420T143719
CREATED:20250623T094948Z
LAST-MODIFIED:20250623T094948Z
UID:3395-1754236800-1754262000@www.suisto.fi
SUMMARY:Su 3.8. Maurice John Vaughn (US) (19:00)
DESCRIPTION:Su 3.8. Maurice John Vaughn (US)\nShowtime 19.00\nLippu ennakkoon 22\,50€ + toimituskulut\, sisältää eteispalvelumaksun\nLippu ovelta 24€\nEnnakkoliput Tiketistä:\nhttps://www.tiketti.fi/maurice-john-vaughn-usa-suisto-klubi-hameenlinna-lippuja/110343 \nChicago-bluesin legenda Maurice John Vaughn esiintyy bluesin ystäville ensimmäistä kertaa Suomessa sitten 1980-luvun. \nMaurice John Vaughn on aito bluesmies\, joka on varttunut Chicagossa kuunnellen Muddy Watersia\, Howlin’ Wolfia ja James Brownia. Hän on yhdistänyt omaan tyyliinsä ja kappaleisiinsa erilaisia vaikutteita bluesista ja R&B:stä. Hän on monipuolinen muusikko ja lauluntekijä\, jonka kappaleista ei puutu huumoriakaan. Hänen levyjään on julkaissut myös tämän päivän merkittävin blueslevy-yhtiö Alligator. \nHänen sielukas ja intohimoinen laulunsa on vakuuttavaa\, koska se perustuu elämänkokemukseen – Vaughn tarkoittaa sitä\, mitä laulaa. Vaughn sanoo\, haluavansa tulla tunnetuksi ihmisenä\, joka ymmärtää kipua\, pystyy käsittelemään sitä\, mutta voi myös pitää hauskaa. Hänen tavoitteenaan on innostaa yleisöään tekemään samoin. Vaughnin suhde yleisöön on läheinen ja hänen tyylinsä on mukaansa tempaava ja osallistava. \nMaurice kiertää helsinkiläisen Highway-yhtyeen kanssa heinä-elokuun vaihteessa. Highwayn kokeneet muusikot ovat aiemmin kiertäneet useiden chicagolaisten vieraiden\, kuten Johnny Drummerin\, Doktu Rhute Muuzicin ja Sheryl Youngbloodin\, kanssa\, ja heihin voi luottaa autenttisen kokemuksen tarjoamisessa. \nJonne Kulluvaara (kitara)\nJan-Olof Strandberg (basso)\nPetri Määttänen (rummut)\n”Good Rockin'” Kempas (laulu\, huuliharppu) \n
URL:https://www.suisto.fi/event/su-3-8-maurice-john-vaughn-us-1900/
LOCATION:Suistoklubi\, Viipurintie 4\, Hämeenlinna\, 13200\, Suomi
CATEGORIES:Keikat
END:VEVENT
END:VCALENDAR