BEGIN:VCALENDAR
VERSION:2.0
PRODID:-//Suistoklubi - Live Music Club - ECPv4.6.22.1//NONSGML v1.0//EN
CALSCALE:GREGORIAN
METHOD:PUBLISH
X-WR-CALNAME:Suistoklubi - Live Music Club
X-ORIGINAL-URL:https://www.suisto.fi
X-WR-CALDESC:Events for Suistoklubi - Live Music Club
BEGIN:VEVENT
DTSTART;TZID=UTC+2:20250911T160000
DTEND;TZID=UTC+2:20250912T000000
DTSTAMP:20260420T194104
CREATED:20250612T122129Z
LAST-MODIFIED:20250829T101217Z
UID:3375-1757606400-1757635200@www.suisto.fi
SUMMARY:To 11.9. CM Wolf & The Backbones (US)\, De La Rocka (19:00)
DESCRIPTION:To 11.9. CM Wolf & The Backbones (US)\, De La Rocka\nDe La Rocka showtime 19.00\nCM Wolf & The Backbones showtime 20.00\nLiput: 23\,50€ / 26€\nEnnakkoliput Tiketistä:\nhttps://www.tiketti.fi/cm-wolf-the-backbones-us-suisto-klubi-hameenlinna-lippuja/109868 \nLegendaarisen Ex-Delta Bombersien karsimaattinen keulahahmo Chris ” The Wolf ” Moinichen saapuu vihdoin Suomeen. Keikalta on odotettavissa sielukasta rockabillyä\, kuumaa rock’n’rollia sekä maittavaa americanaa. \nIltaa lämmittelee De La Rocka. Yhtye esittää räjähtävää rock ’n’ rollia\, jossa yhdistyy psychobillyn\, punk rockin ja surfin energia. \n
URL:https://www.suisto.fi/event/to-11-9-cm-wolf-support-1900/
LOCATION:Suistoklubi\, Viipurintie 4\, Hämeenlinna\, 13200\, Suomi
CATEGORIES:Keikat
END:VEVENT
END:VCALENDAR